BEGIN:VCALENDAR
VERSION:2.0
PRODID:-//Arizona Ghostbusters - ECPv6.15.20//NONSGML v1.0//EN
CALSCALE:GREGORIAN
METHOD:PUBLISH
X-WR-CALNAME:Arizona Ghostbusters
X-ORIGINAL-URL:https://arizonaghostbusters.com
X-WR-CALDESC:Events for Arizona Ghostbusters
REFRESH-INTERVAL;VALUE=DURATION:PT1H
X-Robots-Tag:noindex
X-PUBLISHED-TTL:PT1H
BEGIN:VTIMEZONE
TZID:America/Phoenix
BEGIN:STANDARD
TZOFFSETFROM:-0700
TZOFFSETTO:-0700
TZNAME:MST
DTSTART:20240101T000000
END:STANDARD
END:VTIMEZONE
BEGIN:VEVENT
DTSTART;TZID=America/Phoenix:20250503T090000
DTEND;TZID=America/Phoenix:20250503T150000
DTSTAMP:20260419T091106
CREATED:20250323T043429Z
LAST-MODIFIED:20250323T043429Z
UID:931-1746262800-1746284400@arizonaghostbusters.com
SUMMARY:Free Comic Book Day
DESCRIPTION:Join our team for photo ops at the annual free comic book day event at the library.
URL:https://arizonaghostbusters.com/events/free-comic-book-day/
LOCATION:Glendale Velma Teague Library\, 7010 N 58th Ave\, Glendale\, Arizona\, 85301\, United States
END:VEVENT
BEGIN:VEVENT
DTSTART;TZID=America/Phoenix:20250419T100000
DTEND;TZID=America/Phoenix:20250419T160000
DTSTAMP:20260419T091106
CREATED:20250323T042835Z
LAST-MODIFIED:20250323T042836Z
UID:924-1745056800-1745078400@arizonaghostbusters.com
SUMMARY:Galaxy STEM Fest
DESCRIPTION: Join us for photo ops and fun at this FREE festival! It is a fusion of history\, sci-fi\, and STEM. Including presentations\, hands-on activities\, cosplay\, food trucks\, and more.
URL:https://arizonaghostbusters.com/events/galaxy-stem-fest/
LOCATION:Arizona Heritage Square and Science Park\, 113 N 6th St\, Phoenix\, Arizona\, 85004\, United States
END:VEVENT
BEGIN:VEVENT
DTSTART;TZID=America/Phoenix:20250405T080000
DTEND;TZID=America/Phoenix:20250405T110000
DTSTAMP:20260419T091106
CREATED:20250323T042123Z
LAST-MODIFIED:20250323T042123Z
UID:920-1743840000-1743850800@arizonaghostbusters.com
SUMMARY:Autism Way Out West Awareness Walk
DESCRIPTION:Join our team for the Annual Autism Walk and photo ops! Come together for a day of community\, connection\, and celebration at Autism Way Out West’s Annual Autism Walk!
URL:https://arizonaghostbusters.com/events/autism-way-out-west-awareness-walk-2/
LOCATION:Tartesso Sports Park\, Tartesso Sports Park N 303rd Ave\, Buckeye\, Arizona\, 85396\, United States
END:VEVENT
BEGIN:VEVENT
DTSTART;TZID=America/Phoenix:20250315T080000
DTEND;TZID=America/Phoenix:20250315T110000
DTSTAMP:20260419T091106
CREATED:20250125T135126Z
LAST-MODIFIED:20250125T140328Z
UID:862-1742025600-1742036400@arizonaghostbusters.com
SUMMARY:Festival of Books Character Parade
DESCRIPTION:Join our team for fun and photo ops at the Festival of Books Character Parade!8:30 to 9:00 for meet and greet/photo ops9 AM parade starts
URL:https://arizonaghostbusters.com/events/festival-of-books-character-parade/
LOCATION:Festival of Books Character Parade\, 1209 E University Blvd\, Tucson\, Arizona\, 85719\, United States
END:VEVENT
BEGIN:VEVENT
DTSTART;TZID=America/Phoenix:20250201T000000
DTEND;TZID=America/Phoenix:20250201T180000
DTSTAMP:20260419T091106
CREATED:20250125T134705Z
LAST-MODIFIED:20250125T134705Z
UID:858-1738368000-1738432800@arizonaghostbusters.com
SUMMARY:Touch a Truck
DESCRIPTION:Join our team for fun and photo ops at the 2025 Camp Patrick Touch a Truck!
URL:https://arizonaghostbusters.com/events/touch-a-truck/
LOCATION:Touch a Truck\, 5757 N Central Ave\, Phoenix\, Arizona\, 85012\, United States
END:VEVENT
BEGIN:VEVENT
DTSTART;TZID=America/Phoenix:20250125T090000
DTEND;TZID=America/Phoenix:20250125T150000
DTSTAMP:20260419T091106
CREATED:20250125T134210Z
LAST-MODIFIED:20250125T134210Z
UID:851-1737795600-1737817200@arizonaghostbusters.com
SUMMARY:Tempe Fan Con
DESCRIPTION:Join our team for fun and photo ops at the 2025 Tempe Fan Con!
URL:https://arizonaghostbusters.com/events/tempe-fan-con/
LOCATION:Tempe Public Library\, 3500 S Rural Rd\, Arizona\, 85282\, United States
END:VEVENT
END:VCALENDAR