BEGIN:VCALENDAR
VERSION:2.0
PRODID:-//Arizona Ghostbusters - ECPv6.15.20//NONSGML v1.0//EN
CALSCALE:GREGORIAN
METHOD:PUBLISH
X-ORIGINAL-URL:https://arizonaghostbusters.com
X-WR-CALDESC:Events for Arizona Ghostbusters
REFRESH-INTERVAL;VALUE=DURATION:PT1H
X-Robots-Tag:noindex
X-PUBLISHED-TTL:PT1H
BEGIN:VTIMEZONE
TZID:America/Phoenix
BEGIN:STANDARD
TZOFFSETFROM:-0700
TZOFFSETTO:-0700
TZNAME:MST
DTSTART:20240101T000000
END:STANDARD
END:VTIMEZONE
BEGIN:VEVENT
DTSTART;TZID=America/Phoenix:20250201T000000
DTEND;TZID=America/Phoenix:20250201T180000
DTSTAMP:20260419T164728
CREATED:20250125T134705Z
LAST-MODIFIED:20250125T134705Z
UID:858-1738368000-1738432800@arizonaghostbusters.com
SUMMARY:Touch a Truck
DESCRIPTION:Join our team for fun and photo ops at the 2025 Camp Patrick Touch a Truck!
URL:https://arizonaghostbusters.com/events/touch-a-truck/
LOCATION:Touch a Truck\, 5757 N Central Ave\, Phoenix\, Arizona\, 85012\, United States
END:VEVENT
END:VCALENDAR