BEGIN:VCALENDAR
VERSION:2.0
PRODID:-//Arizona Ghostbusters - ECPv6.15.20//NONSGML v1.0//EN
CALSCALE:GREGORIAN
METHOD:PUBLISH
X-ORIGINAL-URL:https://arizonaghostbusters.com
X-WR-CALDESC:Events for Arizona Ghostbusters
REFRESH-INTERVAL;VALUE=DURATION:PT1H
X-Robots-Tag:noindex
X-PUBLISHED-TTL:PT1H
BEGIN:VTIMEZONE
TZID:America/Phoenix
BEGIN:STANDARD
TZOFFSETFROM:-0700
TZOFFSETTO:-0700
TZNAME:MST
DTSTART:20240101T000000
END:STANDARD
END:VTIMEZONE
BEGIN:VEVENT
DTSTART;TZID=America/Phoenix:20250315T080000
DTEND;TZID=America/Phoenix:20250315T110000
DTSTAMP:20260419T150513
CREATED:20250125T135126Z
LAST-MODIFIED:20250125T140328Z
UID:862-1742025600-1742036400@arizonaghostbusters.com
SUMMARY:Festival of Books Character Parade
DESCRIPTION:Join our team for fun and photo ops at the Festival of Books Character Parade!8:30 to 9:00 for meet and greet/photo ops9 AM parade starts
URL:https://arizonaghostbusters.com/events/festival-of-books-character-parade/
LOCATION:Festival of Books Character Parade\, 1209 E University Blvd\, Tucson\, Arizona\, 85719\, United States
END:VEVENT
END:VCALENDAR