BEGIN:VCALENDAR
VERSION:2.0
PRODID:-//Arizona Ghostbusters - ECPv6.15.20//NONSGML v1.0//EN
CALSCALE:GREGORIAN
METHOD:PUBLISH
X-ORIGINAL-URL:https://arizonaghostbusters.com
X-WR-CALDESC:Events for Arizona Ghostbusters
REFRESH-INTERVAL;VALUE=DURATION:PT1H
X-Robots-Tag:noindex
X-PUBLISHED-TTL:PT1H
BEGIN:VTIMEZONE
TZID:America/Phoenix
BEGIN:STANDARD
TZOFFSETFROM:-0700
TZOFFSETTO:-0700
TZNAME:MST
DTSTART:20240101T000000
END:STANDARD
END:VTIMEZONE
BEGIN:VEVENT
DTSTART;TZID=America/Phoenix:20250829T140000
DTEND;TZID=America/Phoenix:20250829T190000
DTSTAMP:20260419T063642
CREATED:20250323T044110Z
LAST-MODIFIED:20250323T044245Z
UID:939-1756476000-1756494000@arizonaghostbusters.com
SUMMARY:Tucson Comic Con
DESCRIPTION:Join us for photo ops and fun at the Tucson Comic Con!
URL:https://arizonaghostbusters.com/events/tucson-comic-con/
LOCATION:Tucson Convention Center\, 260 S Church Ave\, Tucson\, Arizona\, 85701\, United States
END:VEVENT
BEGIN:VEVENT
DTSTART;TZID=America/Phoenix:20250830T100000
DTEND;TZID=America/Phoenix:20250830T180000
DTSTAMP:20260419T063642
CREATED:20250323T044445Z
LAST-MODIFIED:20250323T044445Z
UID:946-1756548000-1756576800@arizonaghostbusters.com
SUMMARY:Tucson Comic Con
DESCRIPTION:Join us for photo ops and fun at the Tucson Comic Con!
URL:https://arizonaghostbusters.com/events/tucson-comic-con-2/
LOCATION:Tucson Convention Center\, 260 S Church Ave\, Tucson\, Arizona\, 85701\, United States
END:VEVENT
BEGIN:VEVENT
DTSTART;TZID=America/Phoenix:20250831T100000
DTEND;TZID=America/Phoenix:20250831T170000
DTSTAMP:20260419T063642
CREATED:20250323T044624Z
LAST-MODIFIED:20250323T044625Z
UID:948-1756634400-1756659600@arizonaghostbusters.com
SUMMARY:Tucson Comic Con
DESCRIPTION:Join us for photo ops and fun at the Tucson Comic Con!
URL:https://arizonaghostbusters.com/events/tucson-comic-con-3/
LOCATION:Tucson Convention Center\, 260 S Church Ave\, Tucson\, Arizona\, 85701\, United States
END:VEVENT
END:VCALENDAR